BEGIN:VCALENDAR
VERSION:2.0
PRODID:-//Grand Parquet de Fontainebleau - ECPv5.14.0.1//NONSGML v1.0//EN
CALSCALE:GREGORIAN
METHOD:PUBLISH
X-WR-CALNAME:Grand Parquet de Fontainebleau
X-ORIGINAL-URL:https://www.grandparquet.com
X-WR-CALDESC:évènements pour Grand Parquet de Fontainebleau
BEGIN:VTIMEZONE
TZID:Europe/Paris
BEGIN:DAYLIGHT
TZOFFSETFROM:+0100
TZOFFSETTO:+0200
TZNAME:CEST
DTSTART:20260329T010000
END:DAYLIGHT
BEGIN:STANDARD
TZOFFSETFROM:+0200
TZOFFSETTO:+0100
TZNAME:CET
DTSTART:20261025T010000
END:STANDARD
END:VTIMEZONE
BEGIN:VEVENT
DTSTART;VALUE=DATE:20260530
DTEND;VALUE=DATE:20260601
DTSTAMP:20260420T140728
CREATED:20260114T110133Z
LAST-MODIFIED:20260114T110133Z
UID:5961-1780099200-1780271999@www.grandparquet.com
SUMMARY:Nature et Vénerie
DESCRIPTION:
URL:https://www.grandparquet.com/event/nature-et-venerie/
LOCATION:Le Grand Parquet\, Stade Equestre du Grand Parquet Route d'Orléans\, Fontainebleau\, 77300\, France
END:VEVENT
END:VCALENDAR