BEGIN:VCALENDAR
VERSION:2.0
PRODID:-//Grand Parquet de Fontainebleau - ECPv5.14.0.1//NONSGML v1.0//EN
CALSCALE:GREGORIAN
METHOD:PUBLISH
X-WR-CALNAME:Grand Parquet de Fontainebleau
X-ORIGINAL-URL:https://www.grandparquet.com
X-WR-CALDESC:évènements pour Grand Parquet de Fontainebleau
BEGIN:VTIMEZONE
TZID:Europe/Paris
BEGIN:DAYLIGHT
TZOFFSETFROM:+0100
TZOFFSETTO:+0200
TZNAME:CEST
DTSTART:20260329T010000
END:DAYLIGHT
BEGIN:STANDARD
TZOFFSETFROM:+0200
TZOFFSETTO:+0100
TZNAME:CET
DTSTART:20261025T010000
END:STANDARD
END:VTIMEZONE
BEGIN:VEVENT
DTSTART;VALUE=DATE:20260522
DTEND;VALUE=DATE:20260526
DTSTAMP:20260420T052514
CREATED:20260114T105952Z
LAST-MODIFIED:20260408T154212Z
UID:5959-1779408000-1779753599@www.grandparquet.com
SUMMARY:Fontainebleau by Cottard
DESCRIPTION:[vc_row][vc_column][vc_column_text] \nÉVÈNEMENT\nFontainebleau by Cottard vous donne rendez-vous du 22 au 25 mai 2026 à Fontainebleau pour un week-end exceptionnel dédié au sport équestre. Au programme : la Spring Edition Amateur et Professionnel ainsi que la Tournée des As Poneys\, pour des compétitions ouvertes à tous les passionnés. \n  \nPROGRAMME PRÉVISIONEL\n[/vc_column_text][/vc_column][/vc_row][vc_row][vc_column][vc_images_carousel images=”6222\,6224\,6228\,6232\,6220\,6226\,6230″ img_size=”large”][/vc_column][/vc_row]
URL:https://www.grandparquet.com/event/fontainebleau-by-cottard/
LOCATION:Le Grand Parquet\, Stade Equestre du Grand Parquet Route d'Orléans\, Fontainebleau\, 77300\, France
ATTACH;FMTTYPE=image/jpeg:https://www.grandparquet.com/wp-content/uploads/2026/01/653710062_1420947200047469_1185530937091638590_n.jpg
END:VEVENT
END:VCALENDAR