BEGIN:VCALENDAR
VERSION:2.0
PRODID:-//Grand Parquet de Fontainebleau - ECPv5.14.0.1//NONSGML v1.0//EN
CALSCALE:GREGORIAN
METHOD:PUBLISH
X-WR-CALNAME:Grand Parquet de Fontainebleau
X-ORIGINAL-URL:https://www.grandparquet.com
X-WR-CALDESC:évènements pour Grand Parquet de Fontainebleau
BEGIN:VTIMEZONE
TZID:Europe/Paris
BEGIN:DAYLIGHT
TZOFFSETFROM:+0100
TZOFFSETTO:+0200
TZNAME:CEST
DTSTART:20250330T010000
END:DAYLIGHT
BEGIN:STANDARD
TZOFFSETFROM:+0200
TZOFFSETTO:+0100
TZNAME:CET
DTSTART:20251026T010000
END:STANDARD
END:VTIMEZONE
BEGIN:VEVENT
DTSTART;VALUE=DATE:20250911
DTEND;VALUE=DATE:20250915
DTSTAMP:20260425T154420
CREATED:20241231T101525Z
LAST-MODIFIED:20250704T085249Z
UID:5512-1757548800-1757894399@www.grandparquet.com
SUMMARY:Grande Semaine de Dressage
DESCRIPTION:[vc_row][vc_column width=”1/2″][vc_single_image image=”5831″ img_size=”large”][/vc_column][vc_column width=”1/2″][vc_column_text]La Grande Semaine de Dressage : un incontournable à ne pas manquer ![/vc_column_text][/vc_column][/vc_row][vc_row][vc_column][vc_column_text]ÉVÉNEMENT\nLa Grande Semaine de Dressage est un événement équestre majeur en France\, organisé par la SHF au Grand Parquet de Fontainebleau. Elle met en compétition les meilleurs jeunes chevaux et poneys de 4 à 6 ans dans des finales nationales. En plus des épreuves\, l’événement propose un village exposant et des animations pour les passionnés et professionnels. L’édition 2025 se tiendra du 11 au 14 septembre.[/vc_column_text][/vc_column][/vc_row][vc_row][vc_column][vc_column_text]PROGRAMME PRÉVISIONNEL[/vc_column_text][vc_images_carousel images=”5833\,5835\,5837″ img_size=”large” slides_per_view=”2″][/vc_column][/vc_row]
URL:https://www.grandparquet.com/event/grande-semaine-de-dressage-2/
LOCATION:Le Grand Parquet\, Stade Equestre du Grand Parquet Route d'Orléans\, Fontainebleau\, 77300\, France
ATTACH;FMTTYPE=image/jpeg:https://www.grandparquet.com/wp-content/uploads/2024/12/Dressage.jpg
ORGANIZER;CN="Soci%C3%A9t%C3%A9%20Hippique%20Fran%C3%A7aise":MAILTO:contact@shf.eu
END:VEVENT
END:VCALENDAR