BEGIN:VCALENDAR
VERSION:2.0
PRODID:-//Grand Parquet de Fontainebleau - ECPv5.14.0.1//NONSGML v1.0//EN
CALSCALE:GREGORIAN
METHOD:PUBLISH
X-WR-CALNAME:Grand Parquet de Fontainebleau
X-ORIGINAL-URL:https://www.grandparquet.com
X-WR-CALDESC:évènements pour Grand Parquet de Fontainebleau
BEGIN:VTIMEZONE
TZID:Europe/Paris
BEGIN:DAYLIGHT
TZOFFSETFROM:+0100
TZOFFSETTO:+0200
TZNAME:CEST
DTSTART:20240331T010000
END:DAYLIGHT
BEGIN:STANDARD
TZOFFSETFROM:+0200
TZOFFSETTO:+0100
TZNAME:CET
DTSTART:20241027T010000
END:STANDARD
END:VTIMEZONE
BEGIN:VEVENT
DTSTART;VALUE=DATE:20241026
DTEND;VALUE=DATE:20241028
DTSTAMP:20260421T064801
CREATED:20240924T114057Z
LAST-MODIFIED:20241023T070735Z
UID:5365-1729900800-1730073599@www.grandparquet.com
SUMMARY:Championnat Derby Cross
DESCRIPTION:[vc_row][vc_column width=”1/4″][vc_single_image image=”5366″ img_size=”large” onclick=”link_image”][/vc_column][vc_column width=”3/4″][vc_column_text] \nLe Grand Parquet accueille son premier\nChampionnat de France de Derby Cross ! \n[/vc_column_text][/vc_column][/vc_row][vc_row][vc_column][vc_column_text]ÉVÉNEMENT\nLe Derby-Cross est un parcours mêlant saut d’obstacle et cross. On peut donc y retrouver des obstacles fixes (au moins 50% du parcours)\, surmontés ou non d’une barre\, et des obstacles totalement mobiles. Contrairement au derby\, il ne s’agit pas d’un parcours de concours hippique avec quelques obstacles naturels\, mais bien d’un cross : on peut d’ailleurs retrouver des contre-haut\, fossés\, buttes\, contrebas… dans le derby cross. \nOrganisé par le CREIF\, les Championnats de France de Derby Cross rassembleront les meilleurs cavaliers de l’année 2024 ! Près de 300 concurrents sont attendus ![/vc_column_text][/vc_column][/vc_row][vc_row][vc_column][vc_column_text]ÉVÉNEMENT SOLIDAIRE\nEn ce mois d’octobre\, le Championnat de France de Derby Cross se parera de rose ! Le CREIF s’associe à Rose Up\, une association francilienne qui accompagne les femmes atteintes d’un cancer. Sur site\, des actions de sensibilisation seront menées à destination des cavaliers\, des enseignants et du public. Chaque parcours sans faute sera synonyme de don pour Rose Up : une motivation supplémentaire pour tous les participants ![/vc_column_text][/vc_column][/vc_row][vc_row][vc_column][vc_column_text]PROGRAMME PRÉVISIONNEL[/vc_column_text][vc_gallery interval=”3″ images=”5403\,5406″ img_size=”large”][/vc_column][/vc_row]
URL:https://www.grandparquet.com/event/championnat-derby-cross/
LOCATION:Le Grand Parquet\, Stade Equestre du Grand Parquet Route d'Orléans\, Fontainebleau\, 77300\, France
ATTACH;FMTTYPE=image/png:https://www.grandparquet.com/wp-content/uploads/2024/09/Affiche-FR-Derby-cross.png
END:VEVENT
END:VCALENDAR