BEGIN:VCALENDAR
VERSION:2.0
PRODID:-//Grand Parquet de Fontainebleau - ECPv5.14.0.1//NONSGML v1.0//EN
CALSCALE:GREGORIAN
METHOD:PUBLISH
X-WR-CALNAME:Grand Parquet de Fontainebleau
X-ORIGINAL-URL:https://www.grandparquet.com
X-WR-CALDESC:évènements pour Grand Parquet de Fontainebleau
BEGIN:VTIMEZONE
TZID:Europe/Paris
BEGIN:DAYLIGHT
TZOFFSETFROM:+0100
TZOFFSETTO:+0200
TZNAME:CEST
DTSTART:20240331T010000
END:DAYLIGHT
BEGIN:STANDARD
TZOFFSETFROM:+0200
TZOFFSETTO:+0100
TZNAME:CET
DTSTART:20241027T010000
END:STANDARD
END:VTIMEZONE
BEGIN:VEVENT
DTSTART;VALUE=DATE:20241009
DTEND;VALUE=DATE:20241014
DTSTAMP:20260422T020642
CREATED:20240125T100732Z
LAST-MODIFIED:20241010T082719Z
UID:4871-1728432000-1728863999@www.grandparquet.com
SUMMARY:Concours CSO Militaire
DESCRIPTION:[vc_row][vc_column width=”1/4″][vc_single_image image=”5337″ img_size=”medium” onclick=”link_image”][/vc_column][vc_column width=”3/4″][vc_column_text]Le traditionnel concours de saut d’obstacles militaire : un incontournable pour les cavaliers militaires ![/vc_column_text][/vc_column][/vc_row][vc_row][vc_column][vc_column_text]Programme réactualisé [/vc_column_text][vc_single_image image=”5390″ img_size=”large” alignment=”center” onclick=”link_image”][/vc_column][/vc_row]
URL:https://www.grandparquet.com/event/concours-cso-militaire/
LOCATION:Le Grand Parquet\, Stade Equestre du Grand Parquet Route d'Orléans\, Fontainebleau\, 77300\, France
ATTACH;FMTTYPE=image/jpeg:https://www.grandparquet.com/wp-content/uploads/2024/01/Militaire.jpeg
END:VEVENT
END:VCALENDAR