BEGIN:VCALENDAR
VERSION:2.0
PRODID:-//Grand Parquet de Fontainebleau - ECPv5.14.0.1//NONSGML v1.0//EN
CALSCALE:GREGORIAN
METHOD:PUBLISH
X-WR-CALNAME:Grand Parquet de Fontainebleau
X-ORIGINAL-URL:https://www.grandparquet.com
X-WR-CALDESC:évènements pour Grand Parquet de Fontainebleau
BEGIN:VTIMEZONE
TZID:Europe/Paris
BEGIN:DAYLIGHT
TZOFFSETFROM:+0100
TZOFFSETTO:+0200
TZNAME:CEST
DTSTART:20240331T010000
END:DAYLIGHT
BEGIN:STANDARD
TZOFFSETFROM:+0200
TZOFFSETTO:+0100
TZNAME:CET
DTSTART:20241027T010000
END:STANDARD
END:VTIMEZONE
BEGIN:VEVENT
DTSTART;VALUE=DATE:20241004
DTEND;VALUE=DATE:20241007
DTSTAMP:20260422T133840
CREATED:20240125T095927Z
LAST-MODIFIED:20241001T130657Z
UID:4867-1728000000-1728259199@www.grandparquet.com
SUMMARY:Jump Bost
DESCRIPTION:[vc_row][vc_column width=”1/4″][vc_single_image image=”5348″ img_size=”medium”][/vc_column][vc_column width=”3/4″][vc_column_text]JUMPING INTERNATIONAL DE SAUT D’OBSTACLES CSI 2* AMATEUR 1* PONEYS[/vc_column_text][/vc_column][/vc_row][vc_row][vc_column][vc_column_text]ÉVÉNEMENT\nLe Jump Bost a pour objectif de réunir les meilleurs cavaliers mondiaux ainsi que les jeunes espoirs du sport équestre… le temps d’un même week-end\, réalisant ainsi une formidable dynamique autour du cheval\, un vrai village Équestre fait de compétitions\, de moments de détentes en famille ou entre amis\, dans les loges\, restaurants\, stands d’exposants… autour d’une même passion : LE CHEVAL !\nJump BOST\, c’est aussi les Masters Pro\, Championnat de France Séniors\, à Fontainebleau fin septembre.\nToute l’équipe du Jump BOST se mobilise à chaque édition pour vous offrir un accueil chaleureux et personnalisé afin que chaque compétition soit un souvenir inoubliable ![/vc_column_text][/vc_column][/vc_row][vc_row][vc_column][vc_column_text]Programme prévisionnel[/vc_column_text][vc_single_image image=”5380″ img_size=”large” alignment=”center” onclick=”link_image”][/vc_column][/vc_row]
URL:https://www.grandparquet.com/event/jump-bost-2/
LOCATION:Le Grand Parquet\, Stade Equestre du Grand Parquet Route d'Orléans\, Fontainebleau\, 77300\, France
ATTACH;FMTTYPE=image/jpeg:https://www.grandparquet.com/wp-content/uploads/2024/01/AFFICHE_A4-BOST-2024_page-0001.jpg
ORGANIZER;CN="%C3%89curie%20Bost":MAILTO:ECURIE.BOST@WANADOO.FR
END:VEVENT
END:VCALENDAR