BEGIN:VCALENDAR
VERSION:2.0
PRODID:-//Grand Parquet de Fontainebleau - ECPv5.14.0.1//NONSGML v1.0//EN
CALSCALE:GREGORIAN
METHOD:PUBLISH
X-WR-CALNAME:Grand Parquet de Fontainebleau
X-ORIGINAL-URL:https://www.grandparquet.com
X-WR-CALDESC:évènements pour Grand Parquet de Fontainebleau
BEGIN:VTIMEZONE
TZID:Europe/Paris
BEGIN:DAYLIGHT
TZOFFSETFROM:+0100
TZOFFSETTO:+0200
TZNAME:CEST
DTSTART:20240331T010000
END:DAYLIGHT
BEGIN:STANDARD
TZOFFSETFROM:+0200
TZOFFSETTO:+0100
TZNAME:CET
DTSTART:20241027T010000
END:STANDARD
END:VTIMEZONE
BEGIN:VEVENT
DTSTART;VALUE=DATE:20240921
DTEND;VALUE=DATE:20240923
DTSTAMP:20260425T004835
CREATED:20240125T095038Z
LAST-MODIFIED:20240904T143102Z
UID:4860-1726876800-1727049599@www.grandparquet.com
SUMMARY:Festival Vintage
DESCRIPTION:[vc_row][vc_column width=”1/4″][vc_single_image image=”5259″ img_size=”large” onclick=”link_image”][/vc_column][vc_column width=”3/4″][vc_column_text] \nLe Festival Vintage Autos & Motos revient au Grand Parquet pour une seconde édition !\n[/vc_column_text][/vc_column][/vc_row][vc_row][vc_column][vc_column_text]ÉVÉNEMENT\nAprès son large succès lors de sa première édition l’année dernière\, Vintage Auto Passions revient au Grand Parquet pour une seconde édition de son Festival Vintage ! Une grande nouveauté cette année\, l’événement se déroulera sur deux jours (le samedi et le dimanche) ! Tout au long du week-end\, vous pourrez profiter d’une grande exposition de voitures et motos et d’époque (avant 1995) et de voitures de prestiges modernes ; d’un village festif avec différents points de restauration et des buvettes ainsi que de nombreuses animations pour petits et grands ! Le Festival Vintage a fait le plein de nouveautés pour cette seconde édition : au programme\, des manèges\, des balades à poney\, un concours de mini Miss Rétro\, un concours de Pin’Up\, des shows et initiations de danse (country\, kizumba et batchata) et pour les plus téméraires\, venez défier le chrono du simulateur F1\, une récompense est prévue pour le ou la meilleur.re pilote !\nLe samedi soir\, un concert de Chris Agullo and The Vegas Band est prévu ! \nATTENTION : l’entrée est payante\, 3€ par personne ; gratuit pour les moins de 12 ans et les personnes costumées sur le thème des années 50 à 80 ![/vc_column_text][/vc_column][/vc_row][vc_row][vc_column][vc_column_text]PROGRAMME[/vc_column_text][vc_gallery interval=”3″ images=”5332\,5334″ img_size=”medium”][/vc_column][/vc_row]
URL:https://www.grandparquet.com/event/festival-vintage-2/
LOCATION:Le Grand Parquet\, Stade Equestre du Grand Parquet Route d'Orléans\, Fontainebleau\, 77300\, France
ATTACH;FMTTYPE=image/jpeg:https://www.grandparquet.com/wp-content/uploads/2024/01/Affiche-Vintage_page-0001.jpg
ORGANIZER;CN="Vintage%20Auto%20Passions":MAILTO:info@vintage-auto-passions.fr
END:VEVENT
END:VCALENDAR