BEGIN:VCALENDAR
VERSION:2.0
PRODID:-//Grand Parquet de Fontainebleau - ECPv5.14.0.1//NONSGML v1.0//EN
CALSCALE:GREGORIAN
METHOD:PUBLISH
X-WR-CALNAME:Grand Parquet de Fontainebleau
X-ORIGINAL-URL:https://www.grandparquet.com
X-WR-CALDESC:évènements pour Grand Parquet de Fontainebleau
BEGIN:VTIMEZONE
TZID:Europe/Paris
BEGIN:DAYLIGHT
TZOFFSETFROM:+0100
TZOFFSETTO:+0200
TZNAME:CEST
DTSTART:20240331T010000
END:DAYLIGHT
BEGIN:STANDARD
TZOFFSETFROM:+0200
TZOFFSETTO:+0100
TZNAME:CET
DTSTART:20241027T010000
END:STANDARD
END:VTIMEZONE
BEGIN:VEVENT
DTSTART;VALUE=DATE:20240912
DTEND;VALUE=DATE:20240913
DTSTAMP:20260425T142149
CREATED:20240126T134537Z
LAST-MODIFIED:20240905T100247Z
UID:4888-1726099200-1726185599@www.grandparquet.com
SUMMARY:Adecsif
DESCRIPTION:[vc_row][vc_column width=”1/4″][vc_single_image image=”5320″ img_size=”large” onclick=”link_image”][/vc_column][vc_column width=”3/4″][vc_column_text] \nÉVÉNEMENT ANNULE !\n[/vc_column_text][/vc_column][/vc_row][vc_row][vc_column][/vc_column][/vc_row]
URL:https://www.grandparquet.com/event/adecsif-4/
LOCATION:Le Grand Parquet\, Stade Equestre du Grand Parquet Route d'Orléans\, Fontainebleau\, 77300\, France
ATTACH;FMTTYPE=image/jpeg:https://www.grandparquet.com/wp-content/uploads/2024/01/adecsif.jpeg
ORGANIZER;CN="Soci%C3%A9t%C3%A9%20Hippique%20Fran%C3%A7aise":MAILTO:contact@shf.eu
END:VEVENT
END:VCALENDAR