BEGIN:VCALENDAR
VERSION:2.0
PRODID:-//Grand Parquet de Fontainebleau - ECPv5.14.0.1//NONSGML v1.0//EN
CALSCALE:GREGORIAN
METHOD:PUBLISH
X-WR-CALNAME:Grand Parquet de Fontainebleau
X-ORIGINAL-URL:https://www.grandparquet.com
X-WR-CALDESC:évènements pour Grand Parquet de Fontainebleau
BEGIN:VTIMEZONE
TZID:Europe/Paris
BEGIN:DAYLIGHT
TZOFFSETFROM:+0100
TZOFFSETTO:+0200
TZNAME:CEST
DTSTART:20260329T010000
END:DAYLIGHT
BEGIN:STANDARD
TZOFFSETFROM:+0200
TZOFFSETTO:+0100
TZNAME:CET
DTSTART:20261025T010000
END:STANDARD
END:VTIMEZONE
BEGIN:VEVENT
DTSTART;VALUE=DATE:20260828
DTEND;VALUE=DATE:20260831
DTSTAMP:20260421T081238
CREATED:20260114T112054Z
LAST-MODIFIED:20260114T112054Z
UID:5981-1787875200-1788134399@www.grandparquet.com
SUMMARY:Grande Semaine de l'Élevage
DESCRIPTION:Cycle libre
URL:https://www.grandparquet.com/event/grande-semaine-de-lelevage/
ORGANIZER;CN="Soci%C3%A9t%C3%A9%20Hippique%20Fran%C3%A7aise":MAILTO:contact@shf.eu
END:VEVENT
END:VCALENDAR